{"text_format":"2","workbook":"xlsx","n_sheets":6,"sheets":["Sheet1","ALL","Metallic","NonMetallic","Fiber","Sheet2"],"not_rendered":{"charts":4,"images":7,"macros":0,"external_links":0,"defined_names":0,"comments":0,"pivot_tables":0},"unopened":[],"bounds":{"document_bytes":16777216,"sheet_cells":100000,"run_cost":"one","rows_first":2000,"rows_last":500,"rows_between":2000,"halvings":0,"cell_chars":16384,"cell_head_chars":4096},"cells_cut":0,"cells_raw":0,"read":"whole","date_system":"1900"}

{"sheet":"Sheet1","index":0,"n_rows":230,"n_cols":16,"rows_kept":230,"cut":false,"hidden":false,"merged":[[231,0,234,8],[200,2,200,4],[8,1,8,3],[8,6,8,7],[15,1,15,3],[15,6,15,7],[9,0,9,7],[10,0,10,7],[11,1,11,3],[11,6,11,7],[12,1,12,3],[12,6,12,7],[12,4,12,5],[8,4,8,5],[11,4,11,5],[13,0,13,7],[14,0,14,7],[5,0,5,7],[6,0,6,7],[7,1,7,3],[7,6,7,7],[3,4,3,5],[7,4,7,5],[0,0,0,7],[1,0,1,7],[4,1,4,7],[2,1,2,3],[2,6,2,7],[2,4,2,5],[3,1,3,3],[3,6,3,7],[17,1,17,3],[17,6,17,7],[17,4,17,5],[15,4,15,5],[51,2,51,3],[50,0,50,8],[16,1,16,3],[16,4,16,7],[29,6,29,7],[30,6,30,7],[31,6,31,7],[51,6,51,7],[21,6,21,7],[18,0,18,7],[20,2,20,3],[113,2,113,3],[112,0,112,8],[19,0,19,8],[20,6,20,7],[22,6,22,7],[23,6,23,7],[24,6,24,7],[25,6,25,7],[26,6,26,7],[27,6,27,7],[28,6,28,7],[53,6,53,7],[54,6,54,7],[55,6,55,7],[56,6,56,7],[57,6,57,7],[58,6,58,7],[59,6,59,7],[60,6,60,7],[61,6,61,7],[62,6,62,7],[82,6,82,7],[81,0,81,8],[82,2,82,3],[91,6,91,7],[92,6,92,7],[93,6,93,7],[84,6,84,7],[85,6,85,7],[86,6,86,7],[87,6,87,7],[88,6,88,7],[52,6,52,7],[83,6,83,7],[114,6,114,7],[124,6,124,7],[118,6,118,7],[119,6,119,7],[120,6,120,7],[121,6,121,7],[122,6,122,7],[113,6,113,7],[115,6,115,7],[116,6,116,7],[117,6,117,7],[123,6,123,7],[89,6,89,7],[90,6,90,7]]}
["清 洁 度 检 测 报 告"]
["项目概述："]
["项目编号：",{"$f":"Sheet2!B4","v":0},null,null,"实验员：",null,{"$f":"Sheet2!B7","v":0}]
["样品名称：",{"$f":"Sheet2!B5","v":0},null,null,"检测日期：",null,{"$f":"Sheet2!B6","v":"00:00:00"}]
["工件实际面积：\ncm²",{"$f":"Sheet2!B16","v":0}]
[]
["颗粒度分析系统信息："]
["显微镜型号：","Axio Scope A1",null,null,"物镜：",null,"2.5X"]
["比例尺um：","4.2um/pixel",null,null,"分析软件：",null,"OTS-PASA"]
[]
["重量测定信息（mg）："]
["过滤前：",{"$f":"Sheet2!B12","v":0},null,null,"过滤后：",null,{"$f":"Sheet2!B13","v":0}]
["残留物重量：",{"$f":"G12-B12","v":0},null,null,"单个平均：",null,{"$f":"Sheet2!B15","v":0}]
[]
["颗粒统计（单位um）"]
["最大颗粒",{"$f":"MAX(ALL!G4:G1048500)","v":0},null,null,"第二大颗粒",null,{"$f":"MAX(IF(ALL!G4:G1048500<B16,ALL!G4:G1048500))","v":0}]
["颗粒总数",{"$f":"COUNT(ALL!G4:G1048576)","v":0}]
["最长纤维",{"$f":"MAX(Fiber!I3:I1048576)","v":0},null,null,"纤维总长度",null,{"$f":"SUM(Fiber!I3:I1048576)","v":0}]
[]
["颗粒长度分布（单位um）"]
["序号","分类","区间",null,"个数","允许颗粒个数","单位面积颗粒数/1000cm²",null,"状态"]
[1,"B",2.5,5,{"$f":"COUNTIFS(ALL!G2:G1048574,\">\"&C22,ALL!G2:G1048574,\"<=\"&D22)","v":0},null,{"$f":"(1000*E22/Sheet2!$B$16)","v":{"$error":"#DIV/0!"}},null,{"$f":"IF(F22>=E22,\"合格\",\"不合格\")","v":"合格"}]
[2,"C",5,15,{"$f":"COUNTIFS(ALL!G3:G1048575,\">\"&C23,ALL!G3:G1048575,\"<=\"&D23)","v":0},null,{"$f":"(1000*E23/Sheet2!$B$16)","v":{"$error":"#DIV/0!"}},null,{"$f":"IF(F23>=E23,\"合格\",\"不合格\")","v":"合格"}]
[3,"D",15,25,{"$f":"COUNTIFS(ALL!G4:G1048576,\">\"&C24,ALL!G4:G1048576,\"<=\"&D24)","v":0},null,{"$f":"(1000*E24/Sheet2!$B$16)","v":{"$error":"#DIV/0!"}},null,{"$f":"IF(F24>=E24,\"合格\",\"不合格\")","v":"合格"}]
[4,"E",25,50,{"$f":"COUNTIFS(ALL!G4:G1048576,\">\"&C25,ALL!G4:G1048576,\"<=\"&D25)","v":0},null,{"$f":"(1000*E25/Sheet2!$B$16)","v":{"$error":"#DIV/0!"}},null,"合格"]
[5,"F",50,100,{"$f":"COUNTIFS(ALL!G4:G1048576,\">\"&C26,ALL!G4:G1048576,\"<=\"&D26)","v":0},null,{"$f":"(1000*E26/Sheet2!$B$16)","v":{"$error":"#DIV/0!"}},null,"合格"]
[6,"G",100,150,{"$f":"COUNTIFS(ALL!G4:G1048576,\">\"&C27,ALL!G4:G1048576,\"<=\"&D27)","v":0},null,{"$f":"(1000*E27/Sheet2!$B$16)","v":{"$error":"#DIV/0!"}},null,"合格"]
[7,"H",150,200,{"$f":"COUNTIFS(ALL!G4:G1048576,\">\"&C28,ALL!G4:G1048576,\"<=\"&D28)","v":0},null,{"$f":"(1000*E28/Sheet2!$B$16)","v":{"$error":"#DIV/0!"}},null,"合格"]
[8,"I",200,400,{"$f":"COUNTIFS(ALL!G4:G1048576,\">\"&C29,ALL!G4:G1048576,\"<=\"&D29)","v":0},null,{"$f":"(1000*E29/Sheet2!$B$16)","v":{"$error":"#DIV/0!"}},null,"合格"]
[9,"J",400,600,{"$f":"COUNTIFS(ALL!G4:G1048576,\">\"&C30,ALL!G4:G1048576,\"<=\"&D30)","v":0},null,{"$f":"(1000*E30/Sheet2!$B$16)","v":{"$error":"#DIV/0!"}},null,"合格"]
[10,"K",600,1000,{"$f":"COUNTIFS(ALL!G4:G1048576,\">\"&C31,ALL!G4:G1048576,\"<=\"&D31)","v":0},null,{"$f":"(1000*E31/Sheet2!$B$16)","v":{"$error":"#DIV/0!"}},null,"合格"]
[11,"L",1000,null,{"$f":"COUNTIF(ALL!G4:G1048576,\">\"&C32)","v":0},null,{"$f":"(1000*E32/Sheet2!$B$16)","v":{"$error":"#DIV/0!"}},null,"合格"]
{"$rows_empty":18}
["金属长度分布（单位um）"]
["序号","分类","区间",null,"个数","允许颗粒个数","单位面积颗粒数/1000cm²",null,"状态"]
[1,"B",2.5,5,{"$f":"COUNTIFS(Metallic!G2:G1048575,\">\"&C53,Metallic!G2:G1048575,\"<=\"&D53)","v":0},null,{"$f":"(1000*E53/Sheet2!$B$16)","v":{"$error":"#DIV/0!"}},null,{"$f":"IF(F53>=E53,\"合格\",\"不合格\")","v":"合格"}]
[2,"C",5,15,{"$f":"COUNTIFS(Metallic!G3:G1048576,\">\"&C54,Metallic!G3:G1048576,\"<=\"&D54)","v":0},null,{"$f":"(1000*E54/Sheet2!$B$16)","v":{"$error":"#DIV/0!"}},null,{"$f":"IF(F54>=E54,\"合格\",\"不合格\")","v":"合格"}]
[3,"D",15,25,{"$f":"COUNTIFS(Metallic!G3:G1048576,\">\"&C55,Metallic!G3:G1048576,\"<=\"&D55)","v":0},null,{"$f":"(1000*E55/Sheet2!$B$16)","v":{"$error":"#DIV/0!"}},null,{"$f":"IF(F55>=E55,\"合格\",\"不合格\")","v":"合格"}]
[4,"E",25,50,{"$f":"COUNTIFS(Metallic!G3:G1048576,\">\"&C56,Metallic!G3:G1048576,\"<=\"&D56)","v":0},null,{"$f":"(1000*E56/Sheet2!$B$16)","v":{"$error":"#DIV/0!"}},null,"合格"]
[5,"F",50,100,{"$f":"COUNTIFS(Metallic!G3:G1048576,\">\"&C57,Metallic!G3:G1048576,\"<=\"&D57)","v":0},null,{"$f":"(1000*E57/Sheet2!$B$16)","v":{"$error":"#DIV/0!"}},null,"合格"]
[6,"G",100,150,{"$f":"COUNTIFS(Metallic!G3:G1048576,\">\"&C58,Metallic!G3:G1048576,\"<=\"&D58)","v":0},null,{"$f":"(1000*E58/Sheet2!$B$16)","v":{"$error":"#DIV/0!"}},null,"合格"]
[7,"H",150,200,{"$f":"COUNTIFS(Metallic!G3:G1048576,\">\"&C59,Metallic!G3:G1048576,\"<=\"&D59)","v":0},null,{"$f":"(1000*E59/Sheet2!$B$16)","v":{"$error":"#DIV/0!"}},null,"合格"]
[8,"I",200,400,{"$f":"COUNTIFS(Metallic!G3:G1048576,\">\"&C60,Metallic!G3:G1048576,\"<=\"&D60)","v":0},null,{"$f":"(1000*E60/Sheet2!$B$16)","v":{"$error":"#DIV/0!"}},null,"合格"]
[9,"J",400,600,{"$f":"COUNTIFS(Metallic!G3:G1048576,\">\"&C61,Metallic!G3:G1048576,\"<=\"&D61)","v":0},null,{"$f":"(1000*E61/Sheet2!$B$16)","v":{"$error":"#DIV/0!"}},null,"合格"]
[10,"K",600,1000,{"$f":"COUNTIFS(Metallic!G3:G1048576,\">\"&C62,Metallic!G3:G1048576,\"<=\"&D62)","v":0},null,{"$f":"(1000*E62/Sheet2!$B$16)","v":{"$error":"#DIV/0!"}},null,"合格"]
[11,"L",1000,null,{"$f":"COUNTIF(Metallic!G3:G1048576,\">\"&C63)","v":0},null,{"$f":"(1000*E63/Sheet2!$B$16)","v":{"$error":"#DIV/0!"}},null,"合格",{"$nulls":6},{"$f":"COUNT(Metallic!G3:G1048576)","v":0}]
{"$rows_empty":18}
["非金属长度分布（单位um）"]
["序号","分类","区间",null,"个数","允许颗粒个数","单位面积颗粒数/1000cm²",null,"状态"]
[1,"B",2.5,5,{"$f":"COUNTIFS(NonMetallic!G2:G1048575,\">\"&C84,NonMetallic!G2:G1048575,\"<=\"&D84)","v":0},null,{"$f":"(1000*E84/Sheet2!$B$16)","v":{"$error":"#DIV/0!"}},null,{"$f":"IF(F84>=E84,\"合格\",\"不合格\")","v":"合格"}]
[2,"C",5,15,{"$f":"COUNTIFS(NonMetallic!G3:G1048576,\">\"&C85,NonMetallic!G3:G1048576,\"<=\"&D85)","v":0},null,{"$f":"(1000*E85/Sheet2!$B$16)","v":{"$error":"#DIV/0!"}},null,{"$f":"IF(F85>=E85,\"合格\",\"不合格\")","v":"合格"}]
[3,"D",15,25,{"$f":"COUNTIFS(NonMetallic!G3:G1048576,\">\"&C86,NonMetallic!G3:G1048576,\"<=\"&D86)","v":0},null,{"$f":"(1000*E86/Sheet2!$B$16)","v":{"$error":"#DIV/0!"}},null,{"$f":"IF(F86>=E86,\"合格\",\"不合格\")","v":"合格"}]
[4,"E",25,50,{"$f":"COUNTIFS(NonMetallic!G3:G1048576,\">\"&C87,NonMetallic!G3:G1048576,\"<=\"&D87)","v":0},null,{"$f":"(1000*E87/Sheet2!$B$16)","v":{"$error":"#DIV/0!"}},null,"合格"]
[5,"F",50,100,{"$f":"COUNTIFS(NonMetallic!G3:G1048576,\">\"&C88,NonMetallic!G3:G1048576,\"<=\"&D88)","v":0},null,{"$f":"(1000*E88/Sheet2!$B$16)","v":{"$error":"#DIV/0!"}},null,"合格"]
[6,"G",100,150,{"$f":"COUNTIFS(NonMetallic!G3:G1048576,\">\"&C89,NonMetallic!G3:G1048576,\"<=\"&D89)","v":0},null,{"$f":"(1000*E89/Sheet2!$B$16)","v":{"$error":"#DIV/0!"}},null,"合格"]
[7,"H",150,200,{"$f":"COUNTIFS(NonMetallic!G3:G1048576,\">\"&C90,NonMetallic!G3:G1048576,\"<=\"&D90)","v":0},null,{"$f":"(1000*E90/Sheet2!$B$16)","v":{"$error":"#DIV/0!"}},null,"合格"]
[8,"I",200,400,{"$f":"COUNTIFS(NonMetallic!G3:G1048576,\">\"&C91,NonMetallic!G3:G1048576,\"<=\"&D91)","v":0},null,{"$f":"(1000*E91/Sheet2!$B$16)","v":{"$error":"#DIV/0!"}},null,"合格"]
[9,"J",400,600,{"$f":"COUNTIFS(NonMetallic!G3:G1048576,\">\"&C92,NonMetallic!G3:G1048576,\"<=\"&D92)","v":0},null,{"$f":"(1000*E92/Sheet2!$B$16)","v":{"$error":"#DIV/0!"}},null,"合格"]
[10,"K",600,1000,{"$f":"COUNTIFS(NonMetallic!G3:G1048576,\">\"&C93,NonMetallic!G3:G1048576,\"<=\"&D93)","v":0},null,{"$f":"(1000*E93/Sheet2!$B$16)","v":{"$error":"#DIV/0!"}},null,"合格",{"$nulls":6},{"$f":"COUNT(NonMetallic!G3:G1048576)","v":0}]
[11,"L",1000,null,{"$f":"COUNTIF(NonMetallic!G3:G1048576,\">\"&C94)","v":0},null,{"$f":"(1000*E94/Sheet2!$B$16)","v":{"$error":"#DIV/0!"}},null,"合格"]
{"$rows_empty":18}
["纤维长度分布（单位um）"]
["序号","分类","区间",null,"个数","允许颗粒个数","单位面积颗粒数/1000cm²",null,"状态"]
[1,"B",2.5,5,{"$f":"COUNTIFS(Fiber!G2:G1048575,\">\"&C115,Fiber!G2:G1048575,\"<=\"&D115)","v":0},null,{"$f":"(1000*E115/Sheet2!$B$16)","v":{"$error":"#DIV/0!"}},null,{"$f":"IF(F115>=E115,\"合格\",\"不合格\")","v":"合格"}]
[2,"C",5,15,{"$f":"COUNTIFS(Fiber!G3:G1048576,\">\"&C116,Fiber!G3:G1048576,\"<=\"&D116)","v":0},null,{"$f":"(1000*E116/Sheet2!$B$16)","v":{"$error":"#DIV/0!"}},null,{"$f":"IF(F116>=E116,\"合格\",\"不合格\")","v":"合格"}]
[3,"D",15,25,{"$f":"COUNTIFS(Fiber!G3:G1048576,\">\"&C117,Fiber!G3:G1048576,\"<=\"&D117)","v":0},null,{"$f":"(1000*E117/Sheet2!$B$16)","v":{"$error":"#DIV/0!"}},null,{"$f":"IF(F117>=E117,\"合格\",\"不合格\")","v":"合格"}]
[4,"E",25,50,{"$f":"COUNTIFS(Fiber!G3:G1048576,\">\"&C118,Fiber!G3:G1048576,\"<=\"&D118)","v":0},null,{"$f":"(1000*E118/Sheet2!$B$16)","v":{"$error":"#DIV/0!"}},null,"合格"]
[5,"F",50,100,{"$f":"COUNTIFS(Fiber!G3:G1048576,\">\"&C119,Fiber!G3:G1048576,\"<=\"&D119)","v":0},null,{"$f":"(1000*E119/Sheet2!$B$16)","v":{"$error":"#DIV/0!"}},null,"合格"]
[6,"G",100,150,{"$f":"COUNTIFS(Fiber!G3:G1048576,\">\"&C120,Fiber!G3:G1048576,\"<=\"&D120)","v":0},null,{"$f":"(1000*E120/Sheet2!$B$16)","v":{"$error":"#DIV/0!"}},null,"合格"]
[7,"H",150,200,{"$f":"COUNTIFS(Fiber!G3:G1048576,\">\"&C121,Fiber!G3:G1048576,\"<=\"&D121)","v":0},null,{"$f":"(1000*E121/Sheet2!$B$16)","v":{"$error":"#DIV/0!"}},null,"合格"]
[8,"I",200,400,{"$f":"COUNTIFS(Fiber!G3:G1048576,\">\"&C122,Fiber!G3:G1048576,\"<=\"&D122)","v":0},null,{"$f":"(1000*E122/Sheet2!$B$16)","v":{"$error":"#DIV/0!"}},null,"合格"]
[9,"J",400,600,{"$f":"COUNTIFS(Fiber!G3:G1048576,\">\"&C123,Fiber!G3:G1048576,\"<=\"&D123)","v":0},null,{"$f":"(1000*E123/Sheet2!$B$16)","v":{"$error":"#DIV/0!"}},null,"合格"]
[10,"K",600,1000,{"$f":"COUNTIFS(Fiber!G3:G1048576,\">\"&C124,Fiber!G3:G1048576,\"<=\"&D124)","v":0},null,{"$f":"(1000*E124/Sheet2!$B$16)","v":{"$error":"#DIV/0!"}},null,"合格"]
[11,"L",1000,null,{"$f":"COUNTIF(Fiber!G3:G1048576,\">\"&C125)","v":0},null,{"$f":"(1000*E125/Sheet2!$B$16)","v":{"$error":"#DIV/0!"}},null,"合格",{"$nulls":6},{"$f":"COUNT(Fiber!G3:G1048576)","v":0}]
{"$rows_empty":16}
["最大颗粒"]
[null,"1ST",null,null,null,"2ND"]
{"$rows_empty":9}
[{"$f":"MAX(ALL!G4:G200000)","v":0},"X",{"$f":"VLOOKUP(A153,ALL!G4:H20000,2,0)","v":{"$error":"#N/A"}},null,{"$f":"MAX(IF(ALL!$G$4:$G$20000<Sheet1!A153,ALL!$G$4:$G$20000))","v":0},"X",{"$f":"VLOOKUP(E153,ALL!G4:H20000,2,0)","v":{"$error":"#N/A"}}]
[]
[]
["金属最大颗粒"]
[null,"1ST",null,null,null,"2ND"]
{"$rows_empty":10}
[{"$f":"MAX(Metallic!G3:G20000)","v":0},"X",{"$f":"VLOOKUP(A168,Metallic!G3:H20000,2,0)","v":{"$error":"#N/A"}},null,{"$f":"MAX(IF(Metallic!$G$4:$G$20000<Sheet1!A168,Metallic!$G$4:$G$20000))","v":0},"X",{"$f":"VLOOKUP(E168,Metallic!G4:H20000,2,0)","v":{"$error":"#N/A"}}]
[]
[]
["非金属最大颗粒"]
[null,"1ST",null,null,null,"2ND"]
{"$rows_empty":10}
[{"$f":"MAX(NonMetallic!G3:G20000)","v":0},"X",{"$f":"VLOOKUP(A183,NonMetallic!G3:H20000,2,0)","v":{"$error":"#N/A"}},null,{"$f":"MAX(IF(NonMetallic!$G$4:$G$20000<Sheet1!A183,NonMetallic!$G$4:$G$20000))","v":0},"X",{"$f":"VLOOKUP(E183,NonMetallic!G4:H20000,2,0)","v":{"$error":"#N/A"}}]
[]
[]
["最大纤维"]
{"$rows_empty":11}
[null,null,null,{"$f":"MAX(Fiber!I3:I20000)","v":0}]
[{"$f":"IFERROR(LARGE(Fiber!G3:G1048576,1),\"\")","v":""},{"$nulls":4},{"$f":"IFERROR(LARGE(Fiber!G3:G1048576,2),\"\")","v":""}]
[]
[null,null,"滤膜概览"]
{"$rows_empty":28}
["结论"]

{"sheet":"ALL","index":1,"n_rows":3,"n_cols":23,"rows_kept":3,"cut":false,"hidden":false,"merged":[]}
["标尺"]
["3.86"]
["Id","Area","PositionX","PositionY","Perimeter","DegreeCircleDiameter","FeretMax","FeretMin","FibreLength","DensMeanPOL","DensMeanBF","DensMaxBF","DiameterMIC","DensMeanR","DensMeanG","DensMeanB","WidthMax","BoundWidth","BoundHeight","Ha","Hb","H","Type"]

{"sheet":"Metallic","index":2,"n_rows":2,"n_cols":23,"rows_kept":2,"cut":false,"hidden":false,"merged":[]}
[]
["Id","Area","PositionX","PositionY","Perimeter","DegreeCircleDiameter","FeretMax","FeretMin","FibreLength","DensMeanPOL","DensMeanBF","DensMaxBF","DiameterMIC","DensMeanR","DensMeanG","DensMeanB","WidthMax","BoundWidth","BoundHeight","Ha","Hb","H","Type"]

{"sheet":"NonMetallic","index":3,"n_rows":2,"n_cols":23,"rows_kept":2,"cut":false,"hidden":false,"merged":[]}
[]
["Id","Area","PositionX","PositionY","Perimeter","DegreeCircleDiameter","FeretMax","FeretMin","FibreLength","DensMeanPOL","DensMeanBF","DensMaxBF","DiameterMIC","DensMeanR","DensMeanG","DensMeanB","WidthMax","BoundWidth","BoundHeight","Ha","Hb","H","Type"]

{"sheet":"Fiber","index":4,"n_rows":2,"n_cols":23,"rows_kept":2,"cut":false,"hidden":false,"merged":[]}
[]
["Id","Area","PositionX","PositionY","Perimeter","DegreeCircleDiameter","FeretMax","FeretMin","FibreLength","DensMeanPOL","DensMeanBF","DensMaxBF","DiameterMIC","DensMeanR","DensMeanG","DensMeanB","WidthMax","BoundWidth","BoundHeight","Ha","Hb","H","Type"]

{"sheet":"Sheet2","index":5,"n_rows":0,"n_cols":0,"rows_kept":0,"cut":false,"hidden":false,"merged":[]}